
BEGIN:VCALENDAR
VERSION:2.0
PRODID:-//Guesthouse HILL TOP N-resort Fukushima wedding reception and party - ECPv5.2.0//NONSGML v1.0//EN
CALSCALE:GREGORIAN
METHOD:PUBLISH
X-WR-CALNAME:Guesthouse HILL TOP N-resort Fukushima wedding reception and party
X-ORIGINAL-URL:https://n-resort-fukushima.jp
X-WR-CALDESC:Guesthouse HILL TOP N-resort Fukushima wedding reception and party のイベント
BEGIN:VTIMEZONE
TZID:Asia/Tokyo
BEGIN:STANDARD
TZOFFSETFROM:+0900
TZOFFSETTO:+0900
TZNAME:JST
DTSTART:20250101T000000
END:STANDARD
END:VTIMEZONE
BEGIN:VEVENT
DTSTART;TZID=Asia/Tokyo:20251111T080000
DTEND;TZID=Asia/Tokyo:20251122T170000
DTSTAMP:20260422T025554
CREATED:20251111T094348Z
LAST-MODIFIED:20251111T094512Z
UID:12908-1762848000-1763830800@n-resort-fukushima.jp
SUMMARY:【フェア情報】シェフのつくるスペシャルランチプレートをプレゼント！N-resort秋のブライダルフェア開催
DESCRIPTION:  \nご予約はこちら👇 \n\n\n\n　　　ブライダルフェアを予約する\n\n\n\n  \n  \n【シェフのつくるスペシャルランチプレートをプレゼント！N-resort秋のブライダルフェア】\n◆圧巻の独立型チャペル礼拝堂を見学\n◆イメージがつかめる披露宴会場見学\n◆ドレス・和装の試着会\n◆見積り相談会 \nあなたの理想的なウェディングがここに。\n幸せな瞬間が広がる贅沢な空間を体験しませんか？ \n＊ \n開催日：2025年11月22日（土）\n［午前受付］AM 10：30～\n［午後受付］PM 13：30～ \n参加費：無料\n限定５組　※事前予約制 \n＊ \n［特典］婚礼料理を手掛けるシェフのスペシャルランチプレートをペアでプレゼント！\nランチを食べながらイメージを膨らませてみてください。 \n  \n  \n \n  \n  \n  \nご予約はこちら👇 \n\n\n\n　　　ブライダルフェアを予約する\n\n\n\n  \n 
URL:https://n-resort-fukushima.jp/event/12908
CATEGORIES:イベント,ブライダル,無料試食,相談,見学
ATTACH;FMTTYPE=image/png:https://n-resort-fukushima.jp/wp-content/uploads/2025/11/45831496082f4719267c7f5339d70e75.png
END:VEVENT
END:VCALENDAR