
BEGIN:VCALENDAR
VERSION:2.0
PRODID:-//Guesthouse HILL TOP N-resort Fukushima wedding reception and party - ECPv5.2.0//NONSGML v1.0//EN
CALSCALE:GREGORIAN
METHOD:PUBLISH
X-WR-CALNAME:Guesthouse HILL TOP N-resort Fukushima wedding reception and party
X-ORIGINAL-URL:https://n-resort-fukushima.jp
X-WR-CALDESC:Guesthouse HILL TOP N-resort Fukushima wedding reception and party のイベント
BEGIN:VTIMEZONE
TZID:Asia/Tokyo
BEGIN:STANDARD
TZOFFSETFROM:+0900
TZOFFSETTO:+0900
TZNAME:JST
DTSTART:20250101T000000
END:STANDARD
END:VTIMEZONE
BEGIN:VEVENT
DTSTART;TZID=Asia/Tokyo:20251102T080000
DTEND;TZID=Asia/Tokyo:20260131T210000
DTSTAMP:20260422T025705
CREATED:20251102T042246Z
LAST-MODIFIED:20251102T045529Z
UID:12891-1762070400-1769893200@n-resort-fukushima.jp
SUMMARY:【ウェディングフォト】洋装ライトプランのご案内
DESCRIPTION:N-resort Fukushimaのロケーションで撮影する\n新・ウェディングフォトプランが誕生しました。 \n  \n洋装１着、データ10カットのシンプルプラン。\n介添付きなので、広大な敷地内でのロケーション移動もあんしんです。\nもちろん、ご自身のカメラでもたくさん想い出を残してください。 \n  \nフローラあんしんメンバーズ\n洋装ライトプラン \n通常182\,500円　→　 20%OFF 146\,000円（税込） \n  \n〈ウェディングフォトキャンペーン開催中！〉 \n通常20％OFFの洋装ライトプランを\n期間限定で30%OFFになる、ウェディングフォトキャンペーンを開催中です。\n［適用期間：2026年1月31日までご成約／2026年4月30日ご利用分まで］\n詳しくはお問合せ下さいませ。 \n\n【プランに含まれるもの】\n●ウェディングドレス １点\n　ドレス小物レンタル付（ヘッドドレス・アクセサリー・パニエ・シューズ）\n●ブーケレンタル（造花） \n●タキシード １点\n　メンズ小物レンタル付（ウィングカラーシャツ・サスペンダー・カフス・チーフ・アームバンド・シューズ） \n●ヘアメイク着付け\n●介添料\n●写真データ10カット \n\n【オプション】\n・ドレス１点追加（美容着付け込）──────────　￥ 55\,000（税込）\n・新郎新婦和装追加（打掛、紋付袴、美容着付け込）───　￥121\,000（税込）\n・追加写真データ10カットごと（データのみ）─────　￥ 5\,500（税込）\n・キャンバス作成（納品データから1ポーズ/A4サイズ）─　￥ 11\,000（税込）\n・紙台紙（２Pまで） ────────────────　￥ 4\,500（税込）\n・ポストカード50カット（データなし）────────　￥ 11\,000（税込）\n・チャペル撮影使用　───────────────　￥ 16\,500（税込）\n・ロケーション出張撮影　─────────────　￥ 22\,000（税込）\n・土日撮影金額　─────────────────　￥ 55\,000（税込） \n\n※平日限定プランです\n※フローラあんしんメンバーズ（5\,000円）にご加入の方限定プランです。\n　詳しくはお問合せください。 \n 
URL:https://n-resort-fukushima.jp/event/12891
CATEGORIES:ブライダル
ATTACH;FMTTYPE=image/png:https://n-resort-fukushima.jp/wp-content/uploads/2025/11/7505939106def6a25c43faff0b8a9e1d.png
END:VEVENT
END:VCALENDAR