
BEGIN:VCALENDAR
VERSION:2.0
PRODID:-//Guesthouse HILL TOP N-resort Fukushima wedding reception and party - ECPv5.2.0//NONSGML v1.0//EN
CALSCALE:GREGORIAN
METHOD:PUBLISH
X-WR-CALNAME:Guesthouse HILL TOP N-resort Fukushima wedding reception and party
X-ORIGINAL-URL:https://n-resort-fukushima.jp
X-WR-CALDESC:Guesthouse HILL TOP N-resort Fukushima wedding reception and party のイベント
BEGIN:VTIMEZONE
TZID:Asia/Tokyo
BEGIN:STANDARD
TZOFFSETFROM:+0900
TZOFFSETTO:+0900
TZNAME:JST
DTSTART:20210101T000000
END:STANDARD
END:VTIMEZONE
BEGIN:VEVENT
DTSTART;TZID=Asia/Tokyo:20210607T080000
DTEND;TZID=Asia/Tokyo:20210620T170000
DTSTAMP:20260426T050503
CREATED:20210607T092909Z
LAST-MODIFIED:20210607T095730Z
UID:11868-1623052800-1624208400@n-resort-fukushima.jp
SUMMARY:父の日🎁
DESCRIPTION:6月20日は父の日✨ \n日頃の感謝を伝えてみてはいかがですか？(^▽^)/ \n販売期間は6月18日～20日です(‘ω’) \n  \nご予約お待ちしております(^▽^)/ \n  \nTEL:0244-36-4888 \n  \n 
URL:https://n-resort-fukushima.jp/event/11868
ATTACH;FMTTYPE=image/jpeg:https://n-resort-fukushima.jp/wp-content/uploads/2021/06/【訂正版】2021福島父の日チラシ-2-scaled.jpg
END:VEVENT
END:VCALENDAR